BEGIN:VCALENDAR
VERSION:2.0
PRODID:-//eventon.com NONSGML v1.0//EN
CALSCALE:GREGORIAN
METHOD:PUBLISH
BEGIN:VEVENT
UID:69ec9d74ad24d
DTSTAMP:20260425T105444Z
DTSTART:20241018T163000Z
DTEND:20241018T183000Z
LOCATION:
SUMMARY:Pulaski/Carmen Football
DESCRIPTION:Purchase tickets: https://gofan.co/event/1571878?schoolId=WI100
 085  Screenshot\nhttps://carmenschools.org/events/pulaski-carmen-football-
 7/
URL:https://carmenschools.org/events/pulaski-carmen-football-7/
END:VEVENT
END:VCALENDAR