BEGIN:VCALENDAR
VERSION:2.0
PRODID:-//eventon.com NONSGML v1.0//EN
CALSCALE:GREGORIAN
METHOD:PUBLISH
BEGIN:VEVENT
UID:69ed31e0ec0be
DTSTAMP:20260425T212800Z
DTSTART:20240819T170000Z
DTEND:20240819T190000Z
LOCATION:
SUMMARY:Parent Night Orientation: Carmen Northwest
DESCRIPTION:Carmen Northwest is gearing up for the new school year with Par
 ent Night Orientation\,  August 19th\,  2024 from 5pm-7pm for all grade lev
 els.  This information features critical information for families to learn
  about and align on student expectations\,  Carmen culture\,  and preparing
  for a great start to the 2024-25 school[..]\nhttps://carmenschools.org/eve
 nts/parent-night-orientation-carmen-northwest/
URL:https://carmenschools.org/events/parent-night-orientation-carmen-northwest/
END:VEVENT
END:VCALENDAR