BEGIN:VCALENDAR
VERSION:2.0
PRODID:-//eventon.com NONSGML v1.0//EN
CALSCALE:GREGORIAN
METHOD:PUBLISH
BEGIN:VEVENT
UID:69e76991ef345
DTSTAMP:20260421T121201Z
DTSTART:20240806
DTEND:20240807
LOCATION:Pulaski
SUMMARY:Football-Carmen SEHS/SHS/Pulaski
DESCRIPTION:Football-Carmen SEHS/SHS/Pulaski\nhttps://carmenschools.org/eve
 nts/football-carmen-sehs-shs-pulaski/
URL:https://carmenschools.org/events/football-carmen-sehs-shs-pulaski/
END:VEVENT
END:VCALENDAR