BEGIN:VCALENDAR
VERSION:2.0
PRODID:-//eventon.com NONSGML v1.0//EN
CALSCALE:GREGORIAN
METHOD:PUBLISH
BEGIN:VEVENT
UID:69eb9d219e4dc
DTSTAMP:20260424T164105Z
DTSTART:20241002T163000Z
DTEND:20241002T183000Z
LOCATION:Carmen Southeast High 2500 W Oklahoma Ave\,  Milwaukee\,  WI 53215
SUMMARY:Fall Open House: Carmen Southeast High School (SEHS)
DESCRIPTION:RSVP TO ATTEND! \nhttps://carmenschools.org/events/fall-open-h
 ouse-2/
URL:https://carmenschools.org/events/fall-open-house-2/
END:VEVENT
END:VCALENDAR