BEGIN:VCALENDAR
VERSION:2.0
PRODID:-//eventon.com NONSGML v1.0//EN
CALSCALE:GREGORIAN
METHOD:PUBLISH
BEGIN:VEVENT
UID:69ec9de569fb7
DTSTAMP:20260425T105637Z
DTSTART:20240822T163000Z
DTEND:20240822T193000Z
LOCATION:Northwest Campus 5496 N 72nd St\,  Milwaukee\,  WI 53218
SUMMARY:2nd Annual College & Career Resource Fair + Cookout
DESCRIPTION:\nhttps://carmenschools.org/events/secondannualcollegecareerfai
 r/
URL:https://carmenschools.org/events/secondannualcollegecareerfair/
END:VEVENT
END:VCALENDAR